BEGIN:VCALENDAR
VERSION:2.0
PRODID:-//Centro de Formação - ECPv6.15.19//NONSGML v1.0//EN
CALSCALE:GREGORIAN
METHOD:PUBLISH
X-WR-CALNAME:Centro de Formação
X-ORIGINAL-URL:https://www.centrodeformacao.pt
X-WR-CALDESC:Eventos para Centro de Formação
REFRESH-INTERVAL;VALUE=DURATION:PT1H
X-Robots-Tag:noindex
X-PUBLISHED-TTL:PT1H
BEGIN:VTIMEZONE
TZID:UTC
BEGIN:STANDARD
TZOFFSETFROM:+0000
TZOFFSETTO:+0000
TZNAME:UTC
DTSTART:20230101T000000
END:STANDARD
END:VTIMEZONE
BEGIN:VEVENT
DTSTART;TZID=UTC:20240524T090000
DTEND;TZID=UTC:20240524T180000
DTSTAMP:20260422T172735
CREATED:20240419T161341Z
LAST-MODIFIED:20240514T104515Z
UID:36667-1716541200-1716573600@www.centrodeformacao.pt
SUMMARY:VI Aniversário RGPD -  Nova Regulação dos Dados
DESCRIPTION:Plano de Sessão
URL:https://www.centrodeformacao.pt/eventos/aniversario-rgpd/
ATTACH;FMTTYPE=:
END:VEVENT
END:VCALENDAR