BEGIN:VCALENDAR
VERSION:2.0
PRODID:-//Centro de Formação - ECPv6.15.19//NONSGML v1.0//EN
CALSCALE:GREGORIAN
METHOD:PUBLISH
X-ORIGINAL-URL:https://www.centrodeformacao.pt
X-WR-CALDESC:Eventos para Centro de Formação
REFRESH-INTERVAL;VALUE=DURATION:PT1H
X-Robots-Tag:noindex
X-PUBLISHED-TTL:PT1H
BEGIN:VTIMEZONE
TZID:Europe/Lisbon
BEGIN:DAYLIGHT
TZOFFSETFROM:+0000
TZOFFSETTO:+0100
TZNAME:WEST
DTSTART:20230326T010000
END:DAYLIGHT
BEGIN:STANDARD
TZOFFSETFROM:+0100
TZOFFSETTO:+0000
TZNAME:WET
DTSTART:20231029T010000
END:STANDARD
BEGIN:DAYLIGHT
TZOFFSETFROM:+0000
TZOFFSETTO:+0100
TZNAME:WEST
DTSTART:20240331T010000
END:DAYLIGHT
BEGIN:STANDARD
TZOFFSETFROM:+0100
TZOFFSETTO:+0000
TZNAME:WET
DTSTART:20241027T010000
END:STANDARD
BEGIN:DAYLIGHT
TZOFFSETFROM:+0000
TZOFFSETTO:+0100
TZNAME:WEST
DTSTART:20250330T010000
END:DAYLIGHT
BEGIN:STANDARD
TZOFFSETFROM:+0100
TZOFFSETTO:+0000
TZNAME:WET
DTSTART:20251026T010000
END:STANDARD
END:VTIMEZONE
BEGIN:VTIMEZONE
TZID:UTC
BEGIN:STANDARD
TZOFFSETFROM:+0000
TZOFFSETTO:+0000
TZNAME:UTC
DTSTART:20230101T000000
END:STANDARD
END:VTIMEZONE
BEGIN:VEVENT
DTSTART;TZID=Europe/Lisbon:20240930T090000
DTEND;TZID=Europe/Lisbon:20240930T180000
DTSTAMP:20260422T140319
CREATED:20240619T162939Z
LAST-MODIFIED:20240814T160219Z
UID:36794-1727686800-1727719200@www.centrodeformacao.pt
SUMMARY:Termos de Responsabilidade de Candidaturas PRR e Sistema de Controlo Interno
DESCRIPTION:Plano de Sessão 
URL:https://www.centrodeformacao.pt/eventos/termos-de-responsabilidade-de-candidaturas-prr-e-sistema-de-controlo-interno/
LOCATION:Sala de Formação do Hotel de Santarém\, Santarém\, Portugal
ORGANIZER;CN="Audiqcer":MAILTO:info@audiqcer.com
END:VEVENT
BEGIN:VEVENT
DTSTART;TZID=UTC:20240930T140000
DTEND;TZID=UTC:20240930T163000
DTSTAMP:20260422T140319
CREATED:20240904T095450Z
LAST-MODIFIED:20240904T095450Z
UID:36835-1727704800-1727713800@www.centrodeformacao.pt
SUMMARY:PAC PACI | Plano de Atividades de Auditoria e de Controlo Interno
DESCRIPTION:Ficha de Inscrição
URL:https://www.centrodeformacao.pt/eventos/pac-paci-plano-de-atividades-de-auditoria-e-de-controlo-interno/
ATTACH;FMTTYPE=:
ORGANIZER;CN="RJSC":MAILTO:secretariado@rjsc.pt
END:VEVENT
END:VCALENDAR