BEGIN:VCALENDAR
VERSION:2.0
PRODID:-//Centro de Formação - ECPv6.15.19//NONSGML v1.0//EN
CALSCALE:GREGORIAN
METHOD:PUBLISH
X-WR-CALNAME:Centro de Formação
X-ORIGINAL-URL:https://www.centrodeformacao.pt
X-WR-CALDESC:Eventos para Centro de Formação
REFRESH-INTERVAL;VALUE=DURATION:PT1H
X-Robots-Tag:noindex
X-PUBLISHED-TTL:PT1H
BEGIN:VTIMEZONE
TZID:UTC
BEGIN:STANDARD
TZOFFSETFROM:+0000
TZOFFSETTO:+0000
TZNAME:UTC
DTSTART:20240101T000000
END:STANDARD
END:VTIMEZONE
BEGIN:VEVENT
DTSTART;TZID=UTC:20250314T140000
DTEND;TZID=UTC:20250314T180000
DTSTAMP:20260422T235257
CREATED:20241210T102829Z
LAST-MODIFIED:20250210T103048Z
UID:36977-1741960800-1741975200@www.centrodeformacao.pt
SUMMARY:Ciclo Integrado RGPC 2025 - Módulo 7: Sistema de Controlo Interno
DESCRIPTION:Mais Informações\n  \nFicha de Inscrição 
URL:https://www.centrodeformacao.pt/eventos/modulo-7-sistema-de-controlo-interno-versao-extensiva/
CATEGORIES:Ciclo Integrado RGPC 2025 - Versão Extensiva
ATTACH;FMTTYPE=image/png:https://www.centrodeformacao.pt/wp-content/uploads/2024/12/Copia-de-Modulo-VII-Sistema-de-Controlo-Interno-1920-x-1080-px.png
END:VEVENT
BEGIN:VEVENT
DTSTART;TZID=UTC:20250314T140000
DTEND;TZID=UTC:20250314T180000
DTSTAMP:20260422T235257
CREATED:20250227T124751Z
LAST-MODIFIED:20250227T124751Z
UID:37201-1741960800-1741975200@www.centrodeformacao.pt
SUMMARY:RGPCIC - Sistema de Controlo Interno
DESCRIPTION:Mais Informações
URL:https://www.centrodeformacao.pt/eventos/rgpcic-sistema-de-controlo-interno/
CATEGORIES:PAC RGPCIC | Prevenção da Corrupção e Infrações Conexas
END:VEVENT
END:VCALENDAR