BEGIN:VCALENDAR
VERSION:2.0
PRODID:-//Centro de Formação - ECPv6.15.19//NONSGML v1.0//EN
CALSCALE:GREGORIAN
METHOD:PUBLISH
X-WR-CALNAME:Centro de Formação
X-ORIGINAL-URL:https://www.centrodeformacao.pt
X-WR-CALDESC:Eventos para Centro de Formação
REFRESH-INTERVAL;VALUE=DURATION:PT1H
X-Robots-Tag:noindex
X-PUBLISHED-TTL:PT1H
BEGIN:VTIMEZONE
TZID:UTC
BEGIN:STANDARD
TZOFFSETFROM:+0000
TZOFFSETTO:+0000
TZNAME:UTC
DTSTART:20240101T000000
END:STANDARD
END:VTIMEZONE
BEGIN:VEVENT
DTSTART;TZID=UTC:20250317T140000
DTEND;TZID=UTC:20250317T180000
DTSTAMP:20260423T012418
CREATED:20241210T100914Z
LAST-MODIFIED:20250210T123937Z
UID:36967-1742220000-1742234400@www.centrodeformacao.pt
SUMMARY:Ciclo Integrado RGPC 2025 - Módulo 2: Visão Integrada do RGPC
DESCRIPTION:Mais Informações\n  \nFicha de Inscrição
URL:https://www.centrodeformacao.pt/eventos/modulo-2-visao-integrada-do-rgpc-versao-extensiva/
CATEGORIES:Ciclo Integrado RGPC 2025 - Versão Extensiva
ATTACH;FMTTYPE=image/png:https://www.centrodeformacao.pt/wp-content/uploads/2024/12/Copia-de-Modulo-II-Visao-Integrada-do-RGPC-1920-x-1080-px.png
END:VEVENT
BEGIN:VEVENT
DTSTART;TZID=UTC:20250317T140000
DTEND;TZID=UTC:20250317T180000
DTSTAMP:20260423T012418
CREATED:20250227T111400Z
LAST-MODIFIED:20250227T123455Z
UID:37166-1742220000-1742234400@www.centrodeformacao.pt
SUMMARY:RGPCIC - Visão Integrada - Programa de Cumprimento Normativo RGPCIC
DESCRIPTION:Mais Informações
URL:https://www.centrodeformacao.pt/eventos/rgpcic-visao-integrada-programa-de-cumprimento-normativo-rgpcic/
CATEGORIES:PAC RGPCIC | Prevenção da Corrupção e Infrações Conexas
END:VEVENT
END:VCALENDAR