BEGIN:VCALENDAR
VERSION:2.0
PRODID:-//Centro de Formação - ECPv6.15.19//NONSGML v1.0//EN
CALSCALE:GREGORIAN
METHOD:PUBLISH
X-WR-CALNAME:Centro de Formação
X-ORIGINAL-URL:https://www.centrodeformacao.pt
X-WR-CALDESC:Eventos para Centro de Formação
REFRESH-INTERVAL;VALUE=DURATION:PT1H
X-Robots-Tag:noindex
X-PUBLISHED-TTL:PT1H
BEGIN:VTIMEZONE
TZID:UTC
BEGIN:STANDARD
TZOFFSETFROM:+0000
TZOFFSETTO:+0000
TZNAME:UTC
DTSTART:20240101T000000
END:STANDARD
END:VTIMEZONE
BEGIN:VEVENT
DTSTART;TZID=UTC:20250324T140000
DTEND;TZID=UTC:20250324T180000
DTSTAMP:20260422T235246
CREATED:20241210T101108Z
LAST-MODIFIED:20250221T122825Z
UID:36969-1742824800-1742839200@www.centrodeformacao.pt
SUMMARY:Ciclo Integrado RGPC 2025 - Módulo 3: Responsável pelo Cumprimento Normativo
DESCRIPTION:Mais Informações\n  \nFicha de Inscrição
URL:https://www.centrodeformacao.pt/eventos/modulo-3-responsavel-pelo-cumprimento-normativo-versao-extensiva/
CATEGORIES:Ciclo Integrado RGPC 2025 - Versão Extensiva
ATTACH;FMTTYPE=image/png:https://www.centrodeformacao.pt/wp-content/uploads/2024/12/Copia-de-Modulo-III-O-Papel-do-Responsavel-pelo-Cumprimento-Normativo-1920-x-1080-px.png
END:VEVENT
BEGIN:VEVENT
DTSTART;TZID=UTC:20250324T140000
DTEND;TZID=UTC:20250324T180000
DTSTAMP:20260422T235246
CREATED:20250227T122953Z
LAST-MODIFIED:20250227T123430Z
UID:37172-1742824800-1742839200@www.centrodeformacao.pt
SUMMARY:RGPCIC - RCN - Responsável pelo Cumprimento Normativo
DESCRIPTION:Mais Informações
URL:https://www.centrodeformacao.pt/eventos/rgpcic-rcn-responsavel-pelo-cumprimento-normativo/
CATEGORIES:PAC RGPCIC | Prevenção da Corrupção e Infrações Conexas
END:VEVENT
END:VCALENDAR