BEGIN:VCALENDAR
VERSION:2.0
PRODID:-//Centro de Formação - ECPv6.15.19//NONSGML v1.0//EN
CALSCALE:GREGORIAN
METHOD:PUBLISH
X-WR-CALNAME:Centro de Formação
X-ORIGINAL-URL:https://www.centrodeformacao.pt
X-WR-CALDESC:Eventos para Centro de Formação
REFRESH-INTERVAL;VALUE=DURATION:PT1H
X-Robots-Tag:noindex
X-PUBLISHED-TTL:PT1H
BEGIN:VTIMEZONE
TZID:UTC
BEGIN:STANDARD
TZOFFSETFROM:+0000
TZOFFSETTO:+0000
TZNAME:UTC
DTSTART:20240101T000000
END:STANDARD
END:VTIMEZONE
BEGIN:VEVENT
DTSTART;TZID=UTC:20250415T140000
DTEND;TZID=UTC:20250415T160000
DTSTAMP:20260423T011802
CREATED:20250227T124854Z
LAST-MODIFIED:20250306T112019Z
UID:37203-1744725600-1744732800@www.centrodeformacao.pt
SUMMARY:RGPCIC - Promoção da Concorrência na Contratação Pública
DESCRIPTION:Mais Informações
URL:https://www.centrodeformacao.pt/eventos/rgpcic-promocao-da-concorrencia-na-contratacao-publica/
CATEGORIES:PAC RGPCIC | Prevenção da Corrupção e Infrações Conexas
END:VEVENT
BEGIN:VEVENT
DTSTART;TZID=UTC:20250415T160000
DTEND;TZID=UTC:20250415T180000
DTSTAMP:20260423T011802
CREATED:20250227T125003Z
LAST-MODIFIED:20250306T111908Z
UID:37206-1744732800-1744740000@www.centrodeformacao.pt
SUMMARY:RGPCIC - Exercício de Poderes Públicos ou Funções Administrativas
DESCRIPTION:Mais Informações
URL:https://www.centrodeformacao.pt/eventos/rgpcic-exercicio-de-poderes-publicos-ou-funcoes-administrativas/
CATEGORIES:PAC RGPCIC | Prevenção da Corrupção e Infrações Conexas
END:VEVENT
END:VCALENDAR