BEGIN:VCALENDAR
VERSION:2.0
PRODID:-//Centro de Formação - ECPv6.15.19//NONSGML v1.0//EN
CALSCALE:GREGORIAN
METHOD:PUBLISH
X-WR-CALNAME:Centro de Formação
X-ORIGINAL-URL:https://www.centrodeformacao.pt
X-WR-CALDESC:Eventos para Centro de Formação
REFRESH-INTERVAL;VALUE=DURATION:PT1H
X-Robots-Tag:noindex
X-PUBLISHED-TTL:PT1H
BEGIN:VTIMEZONE
TZID:UTC
BEGIN:STANDARD
TZOFFSETFROM:+0000
TZOFFSETTO:+0000
TZNAME:UTC
DTSTART:20240101T000000
END:STANDARD
END:VTIMEZONE
BEGIN:VEVENT
DTSTART;TZID=UTC:20250421T140000
DTEND;TZID=UTC:20250421T160000
DTSTAMP:20260423T011924
CREATED:20250227T125134Z
LAST-MODIFIED:20250227T125134Z
UID:37208-1745244000-1745251200@www.centrodeformacao.pt
SUMMARY:RGPCIC - Termos de Responsabilidade nas Candidaturas PRR
DESCRIPTION:Mais Informações
URL:https://www.centrodeformacao.pt/eventos/rgpcic-termos-de-responsabilidade-nas-candidaturas-prr/
CATEGORIES:PAC RGPCIC | Prevenção da Corrupção e Infrações Conexas
END:VEVENT
BEGIN:VEVENT
DTSTART;TZID=UTC:20250421T160000
DTEND;TZID=UTC:20250421T180000
DTSTAMP:20260423T011924
CREATED:20250227T125237Z
LAST-MODIFIED:20250227T125237Z
UID:37210-1745251200-1745258400@www.centrodeformacao.pt
SUMMARY:RGPCIC - Candidaturas a Fundos Europeus e Projetos de Investimento
DESCRIPTION:Mais Informações
URL:https://www.centrodeformacao.pt/eventos/rgpcic-candidaturas-a-fundos-europeus-e-projetos-de-investimento/
CATEGORIES:PAC RGPCIC | Prevenção da Corrupção e Infrações Conexas
END:VEVENT
END:VCALENDAR