BEGIN:VCALENDAR
VERSION:2.0
PRODID:-//Centro de Formação - ECPv6.15.19//NONSGML v1.0//EN
CALSCALE:GREGORIAN
METHOD:PUBLISH
X-WR-CALNAME:Centro de Formação
X-ORIGINAL-URL:https://www.centrodeformacao.pt
X-WR-CALDESC:Eventos para Centro de Formação
REFRESH-INTERVAL;VALUE=DURATION:PT1H
X-Robots-Tag:noindex
X-PUBLISHED-TTL:PT1H
BEGIN:VTIMEZONE
TZID:UTC
BEGIN:STANDARD
TZOFFSETFROM:+0000
TZOFFSETTO:+0000
TZNAME:UTC
DTSTART:20240101T000000
END:STANDARD
END:VTIMEZONE
BEGIN:VEVENT
DTSTART;TZID=UTC:20250519T090000
DTEND;TZID=UTC:20250519T180000
DTSTAMP:20260423T024804
CREATED:20250227T123150Z
LAST-MODIFIED:20250430T130039Z
UID:37174-1747645200-1747677600@www.centrodeformacao.pt
SUMMARY:RGPCIC - PPRCIC - Plano de Prevenção de Riscos de Corrupção e  Infrações Conexas
DESCRIPTION:Mais Informações
URL:https://www.centrodeformacao.pt/eventos/rgpcic-pprcic-plano-de-prevencao-de-riscos-de-corrupcao-e-infracoes-conexas/
CATEGORIES:PAC RGPCIC | Prevenção da Corrupção e Infrações Conexas
END:VEVENT
END:VCALENDAR