BEGIN:VCALENDAR
VERSION:2.0
PRODID:-//Centro de Formação - ECPv6.15.19//NONSGML v1.0//EN
CALSCALE:GREGORIAN
METHOD:PUBLISH
X-WR-CALNAME:Centro de Formação
X-ORIGINAL-URL:https://www.centrodeformacao.pt
X-WR-CALDESC:Eventos para Centro de Formação
REFRESH-INTERVAL;VALUE=DURATION:PT1H
X-Robots-Tag:noindex
X-PUBLISHED-TTL:PT1H
BEGIN:VTIMEZONE
TZID:UTC
BEGIN:STANDARD
TZOFFSETFROM:+0000
TZOFFSETTO:+0000
TZNAME:UTC
DTSTART:20240101T000000
END:STANDARD
END:VTIMEZONE
BEGIN:VEVENT
DTSTART;TZID=UTC:20251105T140000
DTEND;TZID=UTC:20251105T150000
DTSTAMP:20260421T231234
CREATED:20250918T143010Z
LAST-MODIFIED:20250918T143010Z
UID:37471-1762351200-1762354800@www.centrodeformacao.pt
SUMMARY:NIS2 - Âmbito Alargado e Medidas de Segurança
DESCRIPTION:Mais Informações
URL:https://www.centrodeformacao.pt/eventos/nis2-ambito-alargado-e-medidas-de-seguranca/
CATEGORIES:Cibersegurança e Resiliência,EU Digital Regulation 2025
ATTACH;FMTTYPE=image/png:https://www.centrodeformacao.pt/wp-content/uploads/2025/09/20251105-NIS2-Ambito-Alargado-e-Medidas-de-Seguranca.png
END:VEVENT
BEGIN:VEVENT
DTSTART;TZID=UTC:20251111T170000
DTEND;TZID=UTC:20251111T180000
DTSTAMP:20260421T231234
CREATED:20250918T143315Z
LAST-MODIFIED:20250918T143315Z
UID:37474-1762880400-1762884000@www.centrodeformacao.pt
SUMMARY:CER - Resiliência de Entidades Críticas
DESCRIPTION:Mais Informações
URL:https://www.centrodeformacao.pt/eventos/cer-resiliencia-de-entidades-criticas/
CATEGORIES:Cibersegurança e Resiliência,EU Digital Regulation 2025
ATTACH;FMTTYPE=image/png:https://www.centrodeformacao.pt/wp-content/uploads/2025/09/20251111-CER-Resiliencia-de-Entidades-Criticas.png
END:VEVENT
BEGIN:VEVENT
DTSTART;TZID=UTC:20251118T170000
DTEND;TZID=UTC:20251118T180000
DTSTAMP:20260421T231234
CREATED:20250918T143516Z
LAST-MODIFIED:20250918T143516Z
UID:37477-1763485200-1763488800@www.centrodeformacao.pt
SUMMARY:DORA - Resiliência Operacional Digital no Sector Financeiro
DESCRIPTION:Mais Informações
URL:https://www.centrodeformacao.pt/eventos/dora-resiliencia-operacional-digital-no-sector-financeiro/
CATEGORIES:Cibersegurança e Resiliência,EU Digital Regulation 2025
ATTACH;FMTTYPE=image/png:https://www.centrodeformacao.pt/wp-content/uploads/2025/09/20251118-DORA-Resiliencia-Operacional-Digital-no-Sector-Financeiro.png
END:VEVENT
BEGIN:VEVENT
DTSTART;TZID=UTC:20251119T140000
DTEND;TZID=UTC:20251119T150000
DTSTAMP:20260421T231234
CREATED:20250918T143707Z
LAST-MODIFIED:20250918T143707Z
UID:37480-1763560800-1763564400@www.centrodeformacao.pt
SUMMARY:Cyber Resilience Act - Produtos com Elementos Digitais
DESCRIPTION:Mais Informações
URL:https://www.centrodeformacao.pt/eventos/cyber-resilience-act-produtos-com-elementos-digitais/
CATEGORIES:Cibersegurança e Resiliência,EU Digital Regulation 2025
ATTACH;FMTTYPE=image/png:https://www.centrodeformacao.pt/wp-content/uploads/2025/09/20251119-Cyber-Resilience-Act-Produtos-com-Elementos-Digitais.png
END:VEVENT
BEGIN:VEVENT
DTSTART;TZID=UTC:20251125T170000
DTEND;TZID=UTC:20251125T180000
DTSTAMP:20260421T231234
CREATED:20250918T143853Z
LAST-MODIFIED:20250918T143853Z
UID:37483-1764090000-1764093600@www.centrodeformacao.pt
SUMMARY:Digital Markets Act - Gatekeepers e Práticas Leais
DESCRIPTION:Mais Informações
URL:https://www.centrodeformacao.pt/eventos/digital-markets-act-gatekeepers-e-praticas-leais/
CATEGORIES:Cibersegurança e Resiliência,EU Digital Regulation 2025
ATTACH;FMTTYPE=image/png:https://www.centrodeformacao.pt/wp-content/uploads/2025/09/20251125-Digital-Markets-Act-Gatekeepers-e-Praticas-Leais.png
END:VEVENT
BEGIN:VEVENT
DTSTART;TZID=UTC:20251126T140000
DTEND;TZID=UTC:20251126T150000
DTSTAMP:20260421T231234
CREATED:20250918T144201Z
LAST-MODIFIED:20250918T144201Z
UID:37486-1764165600-1764169200@www.centrodeformacao.pt
SUMMARY:Digital Services Act - Responsabilidade e Moderação
DESCRIPTION:Mais Informações
URL:https://www.centrodeformacao.pt/eventos/digital-services-act-responsabilidade-e-moderacao/
CATEGORIES:Cibersegurança e Resiliência,EU Digital Regulation 2025
ATTACH;FMTTYPE=image/png:https://www.centrodeformacao.pt/wp-content/uploads/2025/09/20251126-Digital-Services-Act-Responsabilidade-e-Moderacao.png
END:VEVENT
END:VCALENDAR