BEGIN:VCALENDAR
VERSION:2.0
PRODID:-//Centro de Formação - ECPv6.15.19//NONSGML v1.0//EN
CALSCALE:GREGORIAN
METHOD:PUBLISH
X-ORIGINAL-URL:https://www.centrodeformacao.pt
X-WR-CALDESC:Eventos para Centro de Formação
REFRESH-INTERVAL;VALUE=DURATION:PT1H
X-Robots-Tag:noindex
X-PUBLISHED-TTL:PT1H
BEGIN:VTIMEZONE
TZID:UTC
BEGIN:STANDARD
TZOFFSETFROM:+0000
TZOFFSETTO:+0000
TZNAME:UTC
DTSTART:20240101T000000
END:STANDARD
END:VTIMEZONE
BEGIN:VEVENT
DTSTART;TZID=UTC:20251028T170000
DTEND;TZID=UTC:20251028T180000
DTSTAMP:20260421T213149
CREATED:20250918T141736Z
LAST-MODIFIED:20250918T142157Z
UID:37462-1761670800-1761674400@www.centrodeformacao.pt
SUMMARY:Data Governance Act e Espaços Europeus de Dados
DESCRIPTION:Mais Informações
URL:https://www.centrodeformacao.pt/eventos/data-governance-act-e-espacos-europeus-de-dados/
CATEGORIES:Dados e Inteligência Artificial,EU Digital Regulation 2025
ATTACH;FMTTYPE=image/png:https://www.centrodeformacao.pt/wp-content/uploads/2025/09/20251028-Data-Governance-Act-e-Espacos-Europeus-de-Dados.png
END:VEVENT
END:VCALENDAR