BEGIN:VCALENDAR
VERSION:2.0
PRODID:-//Centro de Formação - ECPv6.15.19//NONSGML v1.0//EN
CALSCALE:GREGORIAN
METHOD:PUBLISH
X-WR-CALNAME:Centro de Formação
X-ORIGINAL-URL:https://www.centrodeformacao.pt
X-WR-CALDESC:Eventos para Centro de Formação
REFRESH-INTERVAL;VALUE=DURATION:PT1H
X-Robots-Tag:noindex
X-PUBLISHED-TTL:PT1H
BEGIN:VTIMEZONE
TZID:UTC
BEGIN:STANDARD
TZOFFSETFROM:+0000
TZOFFSETTO:+0000
TZNAME:UTC
DTSTART:20240101T000000
END:STANDARD
END:VTIMEZONE
BEGIN:VEVENT
DTSTART;TZID=UTC:20251105T140000
DTEND;TZID=UTC:20251105T150000
DTSTAMP:20260421T172833
CREATED:20250918T143010Z
LAST-MODIFIED:20250918T143010Z
UID:37471-1762351200-1762354800@www.centrodeformacao.pt
SUMMARY:NIS2 - Âmbito Alargado e Medidas de Segurança
DESCRIPTION:Mais Informações
URL:https://www.centrodeformacao.pt/eventos/nis2-ambito-alargado-e-medidas-de-seguranca/
CATEGORIES:Cibersegurança e Resiliência,EU Digital Regulation 2025
ATTACH;FMTTYPE=image/png:https://www.centrodeformacao.pt/wp-content/uploads/2025/09/20251105-NIS2-Ambito-Alargado-e-Medidas-de-Seguranca.png
END:VEVENT
END:VCALENDAR