BEGIN:VCALENDAR
VERSION:2.0
PRODID:-//Centro de Formação - ECPv6.15.19//NONSGML v1.0//EN
CALSCALE:GREGORIAN
METHOD:PUBLISH
X-WR-CALNAME:Centro de Formação
X-ORIGINAL-URL:https://www.centrodeformacao.pt
X-WR-CALDESC:Eventos para Centro de Formação
REFRESH-INTERVAL;VALUE=DURATION:PT1H
X-Robots-Tag:noindex
X-PUBLISHED-TTL:PT1H
BEGIN:VTIMEZONE
TZID:UTC
BEGIN:STANDARD
TZOFFSETFROM:+0000
TZOFFSETTO:+0000
TZNAME:UTC
DTSTART:20240101T000000
END:STANDARD
END:VTIMEZONE
BEGIN:VEVENT
DTSTART;TZID=UTC:20251203T140000
DTEND;TZID=UTC:20251203T150000
DTSTAMP:20260421T141934
CREATED:20250918T150125Z
LAST-MODIFIED:20250918T150125Z
UID:37492-1764770400-1764774000@www.centrodeformacao.pt
SUMMARY:CSRD - Sustentabilidade Corporativa e Digitalização
DESCRIPTION:Mais Informações
URL:https://www.centrodeformacao.pt/eventos/csrd-sustentabilidade-corporativa-e-digitalizacao/
CATEGORIES:EU Digital Regulation 2025,Sustentabilidade e Convergência
ATTACH;FMTTYPE=image/png:https://www.centrodeformacao.pt/wp-content/uploads/2025/09/20251203-CSRD-Sustentabilidade-Corporativa-e-Digitalizacao.png
END:VEVENT
BEGIN:VEVENT
DTSTART;TZID=UTC:20251209T170000
DTEND;TZID=UTC:20251209T180000
DTSTAMP:20260421T141934
CREATED:20250918T150248Z
LAST-MODIFIED:20250918T150248Z
UID:37495-1765299600-1765303200@www.centrodeformacao.pt
SUMMARY:Taxonomia UE e Rastreabilidade Digital de Dados ESG
DESCRIPTION:Mais Informações
URL:https://www.centrodeformacao.pt/eventos/taxonomia-ue-e-rastreabilidade-digital-de-dados-esg/
CATEGORIES:EU Digital Regulation 2025,Sustentabilidade e Convergência
ATTACH;FMTTYPE=image/png:https://www.centrodeformacao.pt/wp-content/uploads/2025/09/20251209-Taxonomia-UE-e-Rastreabilidade-Digital-de-Dados-ESG.png
END:VEVENT
BEGIN:VEVENT
DTSTART;TZID=UTC:20251210T140000
DTEND;TZID=UTC:20251210T150000
DTSTAMP:20260421T141934
CREATED:20250918T150414Z
LAST-MODIFIED:20250918T150414Z
UID:37498-1765375200-1765378800@www.centrodeformacao.pt
SUMMARY:MiCA e Regulamentação de Criptoativos
DESCRIPTION:Mais Informações
URL:https://www.centrodeformacao.pt/eventos/mica-e-regulamentacao-de-criptoativos/
CATEGORIES:EU Digital Regulation 2025,Sustentabilidade e Convergência
ATTACH;FMTTYPE=image/png:https://www.centrodeformacao.pt/wp-content/uploads/2025/09/20251210-MiCA-e-Regulamentacao-de-Criptoativos.png
END:VEVENT
BEGIN:VEVENT
DTSTART;TZID=UTC:20251216T170000
DTEND;TZID=UTC:20251216T180000
DTSTAMP:20260421T141934
CREATED:20250918T150608Z
LAST-MODIFIED:20250918T150608Z
UID:37501-1765904400-1765908000@www.centrodeformacao.pt
SUMMARY:Convergência Regulatória - Integração de Sistemas de  Compliance
DESCRIPTION:Mais Informações
URL:https://www.centrodeformacao.pt/eventos/convergencia-regulatoria-integracao-de-sistemas-de-compliance/
CATEGORIES:EU Digital Regulation 2025,Sustentabilidade e Convergência
ATTACH;FMTTYPE=image/png:https://www.centrodeformacao.pt/wp-content/uploads/2025/09/20251216-Convergencia-Regulatoria-Integracao-de-Sistemas-de-Compliance.png
END:VEVENT
BEGIN:VEVENT
DTSTART;TZID=UTC:20251217T140000
DTEND;TZID=UTC:20251217T150000
DTSTAMP:20260421T141934
CREATED:20250918T151525Z
LAST-MODIFIED:20250918T151525Z
UID:37504-1765980000-1765983600@www.centrodeformacao.pt
SUMMARY:Digital Compliance Officer - Modelos Organizacionais e  Operacionais
DESCRIPTION:Mais Informações
URL:https://www.centrodeformacao.pt/eventos/digital-compliance-officer-modelos-organizacionais-e-operacionais/
CATEGORIES:EU Digital Regulation 2025,Sustentabilidade e Convergência
ATTACH;FMTTYPE=image/png:https://www.centrodeformacao.pt/wp-content/uploads/2025/09/20251217-Digital-Compliance-Officer-Modelos-Organizacionais-e-Operacionais.png
END:VEVENT
BEGIN:VEVENT
DTSTART;TZID=UTC:20251223T170000
DTEND;TZID=UTC:20251223T180000
DTSTAMP:20260421T141934
CREATED:20250918T152059Z
LAST-MODIFIED:20250918T152059Z
UID:37507-1766509200-1766512800@www.centrodeformacao.pt
SUMMARY:Roadmap 2030 - Preparação para os Próximos Desafios Regulatórios
DESCRIPTION:Mais Informações
URL:https://www.centrodeformacao.pt/eventos/roadmap-2030-preparacao-para-os-proximos-desafios-regulatorios/
CATEGORIES:EU Digital Regulation 2025,Sustentabilidade e Convergência
ATTACH;FMTTYPE=image/png:https://www.centrodeformacao.pt/wp-content/uploads/2025/09/20251223-Roadmap-2030-Preparacao-para-os-Proximos-Desafios-Regulatorios.png
END:VEVENT
END:VCALENDAR