BEGIN:VCALENDAR
VERSION:2.0
PRODID:-//Centro de Formação - ECPv6.15.19//NONSGML v1.0//EN
CALSCALE:GREGORIAN
METHOD:PUBLISH
X-ORIGINAL-URL:https://www.centrodeformacao.pt
X-WR-CALDESC:Eventos para Centro de Formação
REFRESH-INTERVAL;VALUE=DURATION:PT1H
X-Robots-Tag:noindex
X-PUBLISHED-TTL:PT1H
BEGIN:VTIMEZONE
TZID:UTC
BEGIN:STANDARD
TZOFFSETFROM:+0000
TZOFFSETTO:+0000
TZNAME:UTC
DTSTART:20240101T000000
END:STANDARD
END:VTIMEZONE
BEGIN:VEVENT
DTSTART;TZID=UTC:20251007T143000
DTEND;TZID=UTC:20251007T160000
DTSTAMP:20260421T172656
CREATED:20250908T154933Z
LAST-MODIFIED:20250908T154933Z
UID:37358-1759847400-1759852800@www.centrodeformacao.pt
SUMMARY:MÓDULO 2: Responsável de Cibersegurança
DESCRIPTION:Mais Informações
URL:https://www.centrodeformacao.pt/eventos/modulo-2-responsavel-de-ciberseguranca/
CATEGORIES:NIS2 Compliance Master 2025-2026
ATTACH;FMTTYPE=image/png:https://www.centrodeformacao.pt/wp-content/uploads/2025/09/MODULO-2-07102025-Responsavel-de-Ciberseguranca.png
END:VEVENT
BEGIN:VEVENT
DTSTART;TZID=UTC:20251014T143000
DTEND;TZID=UTC:20251014T160000
DTSTAMP:20260421T172656
CREATED:20250908T155301Z
LAST-MODIFIED:20250908T155301Z
UID:37362-1760452200-1760457600@www.centrodeformacao.pt
SUMMARY:MÓDULO 3: Ponto de Contacto Permanente
DESCRIPTION:Mais Informações
URL:https://www.centrodeformacao.pt/eventos/modulo-3-ponto-de-contacto-permanente/
CATEGORIES:NIS2 Compliance Master 2025-2026
ATTACH;FMTTYPE=image/png:https://www.centrodeformacao.pt/wp-content/uploads/2025/09/MODULO-3-14102025-Ponto-de-Contacto-Permanente.png
END:VEVENT
BEGIN:VEVENT
DTSTART;TZID=UTC:20251021T143000
DTEND;TZID=UTC:20251021T160000
DTSTAMP:20260421T172656
CREATED:20250908T155620Z
LAST-MODIFIED:20250908T155620Z
UID:37365-1761057000-1761062400@www.centrodeformacao.pt
SUMMARY:MÓDULO 4: Plano de Segurança Organizacional
DESCRIPTION:Mais Informações
URL:https://www.centrodeformacao.pt/eventos/modulo-4-plano-de-seguranca-organizacional/
CATEGORIES:NIS2 Compliance Master 2025-2026
ATTACH;FMTTYPE=image/png:https://www.centrodeformacao.pt/wp-content/uploads/2025/09/MODULO-4-21102025-Plano-de-Seguranca-Organizacional.png
END:VEVENT
BEGIN:VEVENT
DTSTART;TZID=UTC:20251028T143000
DTEND;TZID=UTC:20251028T160000
DTSTAMP:20260421T172656
CREATED:20250908T155752Z
LAST-MODIFIED:20250908T155752Z
UID:37368-1761661800-1761667200@www.centrodeformacao.pt
SUMMARY:MÓDULO 5: Políticas de Cibersegurança
DESCRIPTION:Mais Informações
URL:https://www.centrodeformacao.pt/eventos/modulo-5-politicas-de-ciberseguranca/
CATEGORIES:NIS2 Compliance Master 2025-2026
ATTACH;FMTTYPE=image/png:https://www.centrodeformacao.pt/wp-content/uploads/2025/09/MODULO-5-28102025-Politicas-de-Ciberseguranca.png
END:VEVENT
END:VCALENDAR