BEGIN:VCALENDAR
VERSION:2.0
PRODID:-//Centro de Formação - ECPv6.15.19//NONSGML v1.0//EN
CALSCALE:GREGORIAN
METHOD:PUBLISH
X-WR-CALNAME:Centro de Formação
X-ORIGINAL-URL:https://www.centrodeformacao.pt
X-WR-CALDESC:Eventos para Centro de Formação
REFRESH-INTERVAL;VALUE=DURATION:PT1H
X-Robots-Tag:noindex
X-PUBLISHED-TTL:PT1H
BEGIN:VTIMEZONE
TZID:UTC
BEGIN:STANDARD
TZOFFSETFROM:+0000
TZOFFSETTO:+0000
TZNAME:UTC
DTSTART:20240101T000000
END:STANDARD
END:VTIMEZONE
BEGIN:VEVENT
DTSTART;TZID=UTC:20251202T143000
DTEND;TZID=UTC:20251202T160000
DTSTAMP:20260421T135429
CREATED:20250908T160559Z
LAST-MODIFIED:20250908T160559Z
UID:37383-1764685800-1764691200@www.centrodeformacao.pt
SUMMARY:MÓDULO 10: Segurança na Cadeia de Fornecimento
DESCRIPTION:Mais Informações
URL:https://www.centrodeformacao.pt/eventos/modulo-10-seguranca-na-cadeia-de-fornecimento/
CATEGORIES:NIS2 Compliance Master 2025-2026
ATTACH;FMTTYPE=image/png:https://www.centrodeformacao.pt/wp-content/uploads/2025/09/MODULO-10-02122025-Seguranca-na-Cadeia-de-Fornecimento.png
END:VEVENT
BEGIN:VEVENT
DTSTART;TZID=UTC:20251209T143000
DTEND;TZID=UTC:20251209T160000
DTSTAMP:20260421T135429
CREATED:20250908T160742Z
LAST-MODIFIED:20250908T160742Z
UID:37386-1765290600-1765296000@www.centrodeformacao.pt
SUMMARY:MÓDULO 11: Gestão de Incidentes de Cibersegurança
DESCRIPTION:Mais Informações
URL:https://www.centrodeformacao.pt/eventos/modulo-11-gestao-de-incidentes-de-ciberseguranca/
CATEGORIES:NIS2 Compliance Master 2025-2026
ATTACH;FMTTYPE=image/png:https://www.centrodeformacao.pt/wp-content/uploads/2025/09/MODULO-11-09122025-Gestao-de-Incidentes-de-Ciberseguranca.png
END:VEVENT
BEGIN:VEVENT
DTSTART;TZID=UTC:20251216T143000
DTEND;TZID=UTC:20251216T160000
DTSTAMP:20260421T135429
CREATED:20250908T160922Z
LAST-MODIFIED:20250908T160922Z
UID:37389-1765895400-1765900800@www.centrodeformacao.pt
SUMMARY:MÓDULO 12: Formação e Sensibilização Obrigatória
DESCRIPTION:Mais Informações
URL:https://www.centrodeformacao.pt/eventos/modulo-12-formacao-e-sensibilizacao-obrigatoria/
CATEGORIES:NIS2 Compliance Master 2025-2026
ATTACH;FMTTYPE=image/png:https://www.centrodeformacao.pt/wp-content/uploads/2025/09/MODULO-12-16122025-Formacao-e-Sensibilizacao-Obrigatoria.png
END:VEVENT
BEGIN:VEVENT
DTSTART;TZID=UTC:20251223T143000
DTEND;TZID=UTC:20251223T160000
DTSTAMP:20260421T135429
CREATED:20250908T161123Z
LAST-MODIFIED:20250908T161123Z
UID:37392-1766500200-1766505600@www.centrodeformacao.pt
SUMMARY:MÓDULO 13: Governação\, Controlo e Reporte
DESCRIPTION:Mais Informações
URL:https://www.centrodeformacao.pt/eventos/modulo-13-governacao-controlo-e-reporte/
CATEGORIES:NIS2 Compliance Master 2025-2026
ATTACH;FMTTYPE=image/png:https://www.centrodeformacao.pt/wp-content/uploads/2025/09/MODULO-13-23122025-Governacao-Controlo-e-Reporte.png
END:VEVENT
BEGIN:VEVENT
DTSTART;TZID=UTC:20251230T143000
DTEND;TZID=UTC:20251230T160000
DTSTAMP:20260421T135429
CREATED:20250908T161314Z
LAST-MODIFIED:20250908T161314Z
UID:37395-1767105000-1767110400@www.centrodeformacao.pt
SUMMARY:MÓDULO 14: PAC 2026 – Plano de Atividades de Conformidade
DESCRIPTION:Mais Informações
URL:https://www.centrodeformacao.pt/eventos/modulo-14-pac-2026-plano-de-atividades-de-conformidade/
CATEGORIES:NIS2 Compliance Master 2025-2026
ATTACH;FMTTYPE=image/png:https://www.centrodeformacao.pt/wp-content/uploads/2025/09/MODULO-14-30122025-PAC-2026-–-Plano-de-Atividades-de-Conformidade.png
END:VEVENT
END:VCALENDAR