BEGIN:VCALENDAR
VERSION:2.0
PRODID:-//Centro de Formação - ECPv6.15.19//NONSGML v1.0//EN
CALSCALE:GREGORIAN
METHOD:PUBLISH
X-WR-CALNAME:Centro de Formação
X-ORIGINAL-URL:https://www.centrodeformacao.pt
X-WR-CALDESC:Eventos para Centro de Formação
REFRESH-INTERVAL;VALUE=DURATION:PT1H
X-Robots-Tag:noindex
X-PUBLISHED-TTL:PT1H
BEGIN:VTIMEZONE
TZID:UTC
BEGIN:STANDARD
TZOFFSETFROM:+0000
TZOFFSETTO:+0000
TZNAME:UTC
DTSTART:20230101T000000
END:STANDARD
END:VTIMEZONE
BEGIN:VTIMEZONE
TZID:Europe/Lisbon
BEGIN:DAYLIGHT
TZOFFSETFROM:+0000
TZOFFSETTO:+0100
TZNAME:WEST
DTSTART:20230326T010000
END:DAYLIGHT
BEGIN:STANDARD
TZOFFSETFROM:+0100
TZOFFSETTO:+0000
TZNAME:WET
DTSTART:20231029T010000
END:STANDARD
BEGIN:DAYLIGHT
TZOFFSETFROM:+0000
TZOFFSETTO:+0100
TZNAME:WEST
DTSTART:20240331T010000
END:DAYLIGHT
BEGIN:STANDARD
TZOFFSETFROM:+0100
TZOFFSETTO:+0000
TZNAME:WET
DTSTART:20241027T010000
END:STANDARD
BEGIN:DAYLIGHT
TZOFFSETFROM:+0000
TZOFFSETTO:+0100
TZNAME:WEST
DTSTART:20250330T010000
END:DAYLIGHT
BEGIN:STANDARD
TZOFFSETFROM:+0100
TZOFFSETTO:+0000
TZNAME:WET
DTSTART:20251026T010000
END:STANDARD
END:VTIMEZONE
BEGIN:VEVENT
DTSTART;TZID=UTC:20240617T140000
DTEND;TZID=UTC:20240617T163000
DTSTAMP:20260422T235523
CREATED:20240227T163510Z
LAST-MODIFIED:20240419T162722Z
UID:36565-1718632800-1718641800@www.centrodeformacao.pt
SUMMARY:Medidas Técnicas e Organizativas da Segurança do Ciberespaço
DESCRIPTION:Plano de Sessão 
URL:https://www.centrodeformacao.pt/eventos/medidas-tecnicas-e-organizativas-da-seguranca-do-ciberespaco/
CATEGORIES:Segurança
ATTACH;FMTTYPE=:
END:VEVENT
BEGIN:VEVENT
DTSTART;TZID=UTC:20240709T090000
DTEND;TZID=UTC:20240709T180000
DTSTAMP:20260422T235523
CREATED:20240226T160019Z
LAST-MODIFIED:20240531T150054Z
UID:36561-1720515600-1720548000@www.centrodeformacao.pt
SUMMARY:Responsável pelo Cumprimento Normativo
DESCRIPTION:Plano de Sessão
URL:https://www.centrodeformacao.pt/eventos/responsavel-pelo-cumprimento-normativo/
ATTACH;FMTTYPE=:
END:VEVENT
BEGIN:VEVENT
DTSTART;TZID=Europe/Lisbon:20240710T090000
DTEND;TZID=Europe/Lisbon:20240710T180000
DTSTAMP:20260422T235523
CREATED:20240528T101948Z
LAST-MODIFIED:20240617T105750Z
UID:36790-1720602000-1720634400@www.centrodeformacao.pt
SUMMARY:Funções Reguladas e Gestão de Recursos Humanos
DESCRIPTION:Plano de Sessão 
URL:https://www.centrodeformacao.pt/eventos/funcoes-reguladas-e-gestao-de-recursos-humanos/
ATTACH;FMTTYPE=image/jpeg:https://www.centrodeformacao.pt/wp-content/uploads/2024/05/CGRH-Conformidade-da-Gestao-de-Recursos-Humanos-1.jpeg
ORGANIZER;CN="Audiqcer":MAILTO:info@audiqcer.com
END:VEVENT
BEGIN:VEVENT
DTSTART;TZID=Europe/Lisbon:20240715T090000
DTEND;TZID=Europe/Lisbon:20240715T180000
DTSTAMP:20260422T235523
CREATED:20240226T161809Z
LAST-MODIFIED:20240531T150151Z
UID:36562-1721034000-1721066400@www.centrodeformacao.pt
SUMMARY:Responsável pelo Acesso à Informação e Transparência
DESCRIPTION:Ficha de Inscrição
URL:https://www.centrodeformacao.pt/eventos/responsavel-pelo-acesso-a-informacao/
ATTACH;FMTTYPE=:
END:VEVENT
BEGIN:VEVENT
DTSTART;TZID=Europe/Lisbon:20240722T090000
DTEND;TZID=Europe/Lisbon:20240722T180000
DTSTAMP:20260422T235523
CREATED:20240226T154001Z
LAST-MODIFIED:20240531T150424Z
UID:36558-1721638800-1721671200@www.centrodeformacao.pt
SUMMARY:Encarregado da Proteção de Dados
DESCRIPTION:Plano de Sessão 
URL:https://www.centrodeformacao.pt/eventos/encarregado-da-protecao-de-dados/
END:VEVENT
BEGIN:VEVENT
DTSTART;TZID=UTC:20240916T090000
DTEND;TZID=UTC:20240916T180000
DTSTAMP:20260422T235523
CREATED:20240814T161405Z
LAST-MODIFIED:20240902T170443Z
UID:36806-1726477200-1726509600@www.centrodeformacao.pt
SUMMARY:ADS - Ação e Desenvolvimento Social - Tratamento de Dados\, Transferência de Competências e Municipalização
DESCRIPTION:Ficha de Inscrição 
URL:https://www.centrodeformacao.pt/eventos/ads-acao-e-desenvolvimento-social-tratamento-de-dados-transferencia-de-competencias-e-municipalizacao/
ATTACH;FMTTYPE=:
END:VEVENT
BEGIN:VEVENT
DTSTART;TZID=UTC:20240916T140000
DTEND;TZID=UTC:20240916T163000
DTSTAMP:20260422T235523
CREATED:20240902T171133Z
LAST-MODIFIED:20240902T171133Z
UID:36825-1726495200-1726504200@www.centrodeformacao.pt
SUMMARY:PAC PADS | Plano de Atividades de Conformidade de Proteção de Dados\, Segurança da Informação e Cibersegurança na Ação e Desenvolvimento Social Municipal
DESCRIPTION:Ficha de Inscrição 
URL:https://www.centrodeformacao.pt/eventos/pac-pads-plano-de-atividades-de-conformidade-de-protecao-de-dados-seguranca-da-informacao-e-ciberseguranca-na-acao-e-desenvolvimento-social-municipal/
ATTACH;FMTTYPE=:
END:VEVENT
BEGIN:VEVENT
DTSTART;TZID=UTC:20240917T090000
DTEND;TZID=UTC:20240917T180000
DTSTAMP:20260422T235523
CREATED:20240228T144525Z
LAST-MODIFIED:20240902T161446Z
UID:36566-1726563600-1726596000@www.centrodeformacao.pt
SUMMARY:Plano de Segurança do Ciberespaço
DESCRIPTION:Plano de Sessão 
URL:https://www.centrodeformacao.pt/eventos/plano-de-seguranca-do-ciberespaco/
ATTACH;FMTTYPE=:
ORGANIZER;CN="Isofficer":MAILTO:info@isofficer.com
END:VEVENT
BEGIN:VEVENT
DTSTART;TZID=UTC:20240917T140000
DTEND;TZID=UTC:20240917T163000
DTSTAMP:20260422T235523
CREATED:20240904T094402Z
LAST-MODIFIED:20240904T094402Z
UID:36827-1726581600-1726590600@www.centrodeformacao.pt
SUMMARY:MTOS - Medidas Técnicas e Organizativas de Segurança do Ciberespaço
DESCRIPTION:Ficha de Inscrição
URL:https://www.centrodeformacao.pt/eventos/mtos-medidas-tecnicas-e-organizativas-de-seguranca-do-ciberespaco/
ATTACH;FMTTYPE=:
ORGANIZER;CN="RJSC":MAILTO:secretariado@rjsc.pt
END:VEVENT
BEGIN:VEVENT
DTSTART;TZID=UTC:20240917T164500
DTEND;TZID=UTC:20240917T180000
DTSTAMP:20260422T235523
CREATED:20240904T094610Z
LAST-MODIFIED:20240904T094610Z
UID:36829-1726591500-1726596000@www.centrodeformacao.pt
SUMMARY:ADSC - Avaliação e Diagnóstico da Segurança do Ciberespaço
DESCRIPTION:Ficha de Inscrição
URL:https://www.centrodeformacao.pt/eventos/adsc-avaliacao-e-diagnostico-da-seguranca-do-ciberespaco/
ATTACH;FMTTYPE=:
ORGANIZER;CN="RJSC":MAILTO:secretariado@rjsc.pt
END:VEVENT
BEGIN:VEVENT
DTSTART;TZID=UTC:20240918T090000
DTEND;TZID=UTC:20240918T120000
DTSTAMP:20260422T235523
CREATED:20240902T165041Z
LAST-MODIFIED:20240912T143319Z
UID:36819-1726650000-1726660800@www.centrodeformacao.pt
SUMMARY:Radar Social - Medidas de Proteção de Dados e Segurança da Informação
DESCRIPTION:Ficha de Inscrição
URL:https://www.centrodeformacao.pt/eventos/radar-social-medidas-de-protecao-de-dados-e-seguranca-da-informacao/
ATTACH;FMTTYPE=:
END:VEVENT
BEGIN:VEVENT
DTSTART;TZID=UTC:20240918T140000
DTEND;TZID=UTC:20240918T163000
DTSTAMP:20260422T235523
CREATED:20240902T165439Z
LAST-MODIFIED:20240912T143303Z
UID:36821-1726668000-1726677000@www.centrodeformacao.pt
SUMMARY:CPCJs - Medidas de Proteção de Dados e Segurança da Informação
DESCRIPTION:Ficha de Inscrição
URL:https://www.centrodeformacao.pt/eventos/cpcjs-medidas-de-protecao-de-dados-e-seguranca-da-informacao/
ATTACH;FMTTYPE=:
END:VEVENT
BEGIN:VEVENT
DTSTART;TZID=UTC:20240923T090000
DTEND;TZID=UTC:20240923T180000
DTSTAMP:20260422T235523
CREATED:20240814T161654Z
LAST-MODIFIED:20240905T114540Z
UID:36808-1727082000-1727114400@www.centrodeformacao.pt
SUMMARY:RCN - Agenda Anticorrupção e Funções do Responsável pelo Cumprimento Normativo
DESCRIPTION:Ficha de Inscrição 
URL:https://www.centrodeformacao.pt/eventos/rcn-agenda-anticorrupcao-e-funcoes-do-responsavel-pelo-cumprimento-normativo/
ATTACH;FMTTYPE=:
END:VEVENT
BEGIN:VEVENT
DTSTART;TZID=UTC:20240923T140000
DTEND;TZID=UTC:20240923T163000
DTSTAMP:20260422T235523
CREATED:20240904T094910Z
LAST-MODIFIED:20240904T094910Z
UID:36831-1727100000-1727109000@www.centrodeformacao.pt
SUMMARY:PAC PCIC | Plano de Atividades de Prevenção da Corrupção e Infrações Conexas
DESCRIPTION:Ficha de Inscrição
URL:https://www.centrodeformacao.pt/eventos/pac-pcic-plano-de-atividades-de-prevencao-da-corrupcao-e-infracoes-conexas/
ATTACH;FMTTYPE=:
ORGANIZER;CN="RJSC":MAILTO:secretariado@rjsc.pt
END:VEVENT
BEGIN:VEVENT
DTSTART;TZID=UTC:20240924T090000
DTEND;TZID=UTC:20240924T180000
DTSTAMP:20260422T235523
CREATED:20240226T162603Z
LAST-MODIFIED:20240904T091954Z
UID:36563-1727168400-1727200800@www.centrodeformacao.pt
SUMMARY:Ponto de Contacto Permanente de Segurança
DESCRIPTION:Ficha de Inscrição
URL:https://www.centrodeformacao.pt/eventos/ponto-de-contacto-permanente-de-seguranca/
CATEGORIES:Segurança
END:VEVENT
BEGIN:VEVENT
DTSTART;TZID=UTC:20240924T140000
DTEND;TZID=UTC:20240924T163000
DTSTAMP:20260422T235523
CREATED:20240904T095206Z
LAST-MODIFIED:20240904T095206Z
UID:36833-1727186400-1727195400@www.centrodeformacao.pt
SUMMARY:PAC PCP | Plano de Atividades de Conformidade do Ponto de Contacto Permanente
DESCRIPTION:Ficha de Inscrição
URL:https://www.centrodeformacao.pt/eventos/pac-pcp-plano-de-atividades-de-conformidade-do-ponto-de-contacto-permanente/
ATTACH;FMTTYPE=:
ORGANIZER;CN="RJSC":MAILTO:secretariado@rjsc.pt
END:VEVENT
BEGIN:VEVENT
DTSTART;TZID=Europe/Lisbon:20240930T090000
DTEND;TZID=Europe/Lisbon:20240930T180000
DTSTAMP:20260422T235523
CREATED:20240619T162939Z
LAST-MODIFIED:20240814T160219Z
UID:36794-1727686800-1727719200@www.centrodeformacao.pt
SUMMARY:Termos de Responsabilidade de Candidaturas PRR e Sistema de Controlo Interno
DESCRIPTION:Plano de Sessão 
URL:https://www.centrodeformacao.pt/eventos/termos-de-responsabilidade-de-candidaturas-prr-e-sistema-de-controlo-interno/
LOCATION:Sala de Formação do Hotel de Santarém\, Santarém\, Portugal
ORGANIZER;CN="Audiqcer":MAILTO:info@audiqcer.com
END:VEVENT
BEGIN:VEVENT
DTSTART;TZID=UTC:20240930T140000
DTEND;TZID=UTC:20240930T163000
DTSTAMP:20260422T235523
CREATED:20240904T095450Z
LAST-MODIFIED:20240904T095450Z
UID:36835-1727704800-1727713800@www.centrodeformacao.pt
SUMMARY:PAC PACI | Plano de Atividades de Auditoria e de Controlo Interno
DESCRIPTION:Ficha de Inscrição
URL:https://www.centrodeformacao.pt/eventos/pac-paci-plano-de-atividades-de-auditoria-e-de-controlo-interno/
ATTACH;FMTTYPE=:
ORGANIZER;CN="RJSC":MAILTO:secretariado@rjsc.pt
END:VEVENT
BEGIN:VEVENT
DTSTART;TZID=UTC:20241001T090000
DTEND;TZID=UTC:20241001T180000
DTSTAMP:20260422T235523
CREATED:20240228T114241Z
LAST-MODIFIED:20240814T160422Z
UID:34712-1727773200-1727805600@www.centrodeformacao.pt
SUMMARY:Call Centers & Contact Centers Compliance Officer
DESCRIPTION:Ficha de Inscrição 
URL:https://www.centrodeformacao.pt/eventos/call-centers-contact-centers-compliance/
CATEGORIES:Call Center
ATTACH;FMTTYPE=:
END:VEVENT
BEGIN:VEVENT
DTSTART;TZID=UTC:20241001T140000
DTEND;TZID=UTC:20241001T163000
DTSTAMP:20260422T235523
CREATED:20240904T095717Z
LAST-MODIFIED:20240904T095740Z
UID:36837-1727791200-1727800200@www.centrodeformacao.pt
SUMMARY:PAC CCC | Plano de Atividades de Conformidade nos Call Centers e Contact Centers
DESCRIPTION:Ficha de Inscrição
URL:https://www.centrodeformacao.pt/eventos/pac-ccc-plano-de-atividades-de-conformidade-nos-call-centers-e-contact-centers/
ATTACH;FMTTYPE=:
ORGANIZER;CN="RJSC":MAILTO:secretariado@rjsc.pt
END:VEVENT
BEGIN:VEVENT
DTSTART;TZID=UTC:20241007T090000
DTEND;TZID=UTC:20241007T180000
DTSTAMP:20260422T235523
CREATED:20240902T165803Z
LAST-MODIFIED:20240902T165803Z
UID:36823-1728291600-1728324000@www.centrodeformacao.pt
SUMMARY:Serviços Digitais\, Atendimento Omnicanal e Atendimento Presencial na Administração Pública
DESCRIPTION:Ficha de Inscrição 
URL:https://www.centrodeformacao.pt/eventos/servicos-digitais-atendimento-omnicanal-e-atendimento-presencial-na-administracao-publica/
ATTACH;FMTTYPE=:
END:VEVENT
BEGIN:VEVENT
DTSTART;TZID=UTC:20241007T140000
DTEND;TZID=UTC:20241007T163000
DTSTAMP:20260422T235523
CREATED:20240904T100103Z
LAST-MODIFIED:20240904T100103Z
UID:36839-1728309600-1728318600@www.centrodeformacao.pt
SUMMARY:PAC SDAO | Plano de Atividades de Conformidade nos Serviços Digitais e no Atendimento Omnicanal ou Presencial
DESCRIPTION:Ficha de Inscrição
URL:https://www.centrodeformacao.pt/eventos/pac-sdao-plano-de-atividades-de-conformidade-nos-servicos-digitais-e-no-atendimento-omnicanal-ou-presencial/
ATTACH;FMTTYPE=:
ORGANIZER;CN="RJSC":MAILTO:secretariado@rjsc.pt
END:VEVENT
BEGIN:VEVENT
DTSTART;TZID=Europe/Lisbon:20241021T090000
DTEND;TZID=Europe/Lisbon:20241021T180000
DTSTAMP:20260422T235523
CREATED:20240226T145124Z
LAST-MODIFIED:20240902T170013Z
UID:34600-1729501200-1729533600@www.centrodeformacao.pt
SUMMARY:RTD - Canais de Denúncia e Funções do Responsável pelo Tratamento das Denúncias
DESCRIPTION:Plano de Sessão
URL:https://www.centrodeformacao.pt/eventos/responsavel-pelo-tratamento-das-denuncias/
ATTACH;FMTTYPE=:
ORGANIZER;CN="Audiqcer":MAILTO:info@audiqcer.com
END:VEVENT
BEGIN:VEVENT
DTSTART;TZID=UTC:20241021T140000
DTEND;TZID=UTC:20241021T163000
DTSTAMP:20260422T235523
CREATED:20240904T100459Z
LAST-MODIFIED:20240904T100459Z
UID:36841-1729519200-1729528200@www.centrodeformacao.pt
SUMMARY:PAC PDCD | Plano de Atividades de Conformidade na Proteção de Denunciantes e Canais de Denúncia
DESCRIPTION:Ficha de Inscrição
URL:https://www.centrodeformacao.pt/eventos/pac-pdcd-plano-de-atividades-de-conformidade-na-protecao-de-denunciantes-e-canais-de-denuncia/
ATTACH;FMTTYPE=:
ORGANIZER;CN="RJSC":MAILTO:secretariado@rjsc.pt
END:VEVENT
BEGIN:VEVENT
DTSTART;TZID=Europe/Lisbon:20241022T090000
DTEND;TZID=Europe/Lisbon:20241022T180000
DTSTAMP:20260422T235523
CREATED:20240226T155752Z
LAST-MODIFIED:20240816T142700Z
UID:36560-1729587600-1729620000@www.centrodeformacao.pt
SUMMARY:RSI - Funções do Responsável de Segurança de Informação na NIS2 e nova Regulação Digital
DESCRIPTION:Ficha de Inscrição
URL:https://www.centrodeformacao.pt/eventos/responsavel-pela-seguranca-da-informacao/
ATTACH;FMTTYPE=:
END:VEVENT
BEGIN:VEVENT
DTSTART;TZID=UTC:20241022T140000
DTEND;TZID=UTC:20241022T163000
DTSTAMP:20260422T235523
CREATED:20240904T100714Z
LAST-MODIFIED:20240904T100714Z
UID:36843-1729605600-1729614600@www.centrodeformacao.pt
SUMMARY:PAC SI/SC | Plano de Atividades de Conformidade na Segurança da Informação e na Segurança do Ciberespaço
DESCRIPTION:Ficha de Inscrição
URL:https://www.centrodeformacao.pt/eventos/pac-si-sc-plano-de-atividades-de-conformidade-na-seguranca-da-informacao-e-na-seguranca-do-ciberespaco/
ATTACH;FMTTYPE=:
ORGANIZER;CN="RJSC":MAILTO:secretariado@rjsc.pt
END:VEVENT
BEGIN:VEVENT
DTSTART;TZID=UTC:20241028T090000
DTEND;TZID=UTC:20241028T180000
DTSTAMP:20260422T235523
CREATED:20240816T140822Z
LAST-MODIFIED:20240902T170847Z
UID:36813-1730106000-1730138400@www.centrodeformacao.pt
SUMMARY:SGRH - Segurança na Gestão de Recursos Humanos e Medidas de Conformidade Regulatória
DESCRIPTION:Ficha de Inscrição 
URL:https://www.centrodeformacao.pt/eventos/sgrh-seguranca-na-gestao-de-recursos-humanos-e-medidas-de-conformidade-regulatoria/
ATTACH;FMTTYPE=:
END:VEVENT
BEGIN:VEVENT
DTSTART;TZID=UTC:20241028T140000
DTEND;TZID=UTC:20241028T163000
DTSTAMP:20260422T235523
CREATED:20240904T100846Z
LAST-MODIFIED:20240904T100846Z
UID:36845-1730124000-1730133000@www.centrodeformacao.pt
SUMMARY:PAC SGRHC | Plano de Atividades de Conformidade para Segurança na Gestão de Recursos Humanos
DESCRIPTION:Ficha de Inscrição
URL:https://www.centrodeformacao.pt/eventos/pac-sgrhc-plano-de-atividades-de-conformidade-para-seguranca-na-gestao-de-recursos-humanos/
ATTACH;FMTTYPE=:
ORGANIZER;CN="RJSC":MAILTO:secretariado@rjsc.pt
END:VEVENT
BEGIN:VEVENT
DTSTART;TZID=Europe/Lisbon:20241029T090000
DTEND;TZID=Europe/Lisbon:20241029T180000
DTSTAMP:20260422T235523
CREATED:20240226T154535Z
LAST-MODIFIED:20240904T091537Z
UID:36559-1730192400-1730224800@www.centrodeformacao.pt
SUMMARY:RSC - Funções do Responsável pela Segurança do Ciberespaço na NIS2 e nova Regulação Digital
DESCRIPTION:Plano de Sessão
URL:https://www.centrodeformacao.pt/eventos/responsavel-pela-seguranca-do-ciberespaco/
ATTACH;FMTTYPE=:
END:VEVENT
BEGIN:VEVENT
DTSTART;TZID=UTC:20241029T140000
DTEND;TZID=UTC:20241029T163000
DTSTAMP:20260422T235523
CREATED:20240904T101057Z
LAST-MODIFIED:20240904T101057Z
UID:36847-1730210400-1730219400@www.centrodeformacao.pt
SUMMARY:PAC SC | Plano de Atividades de Conformidade na Segurança do Ciberespaço
DESCRIPTION:Ficha de Inscrição
URL:https://www.centrodeformacao.pt/eventos/pac-sc-plano-de-atividades-de-conformidade-na-seguranca-do-ciberespaco/
ATTACH;FMTTYPE=:
ORGANIZER;CN="RJSC":MAILTO:secretariado@rjsc.pt
END:VEVENT
END:VCALENDAR