BEGIN:VCALENDAR
VERSION:2.0
PRODID:-//Centro de Formação - ECPv6.15.19//NONSGML v1.0//EN
CALSCALE:GREGORIAN
METHOD:PUBLISH
X-WR-CALNAME:Centro de Formação
X-ORIGINAL-URL:https://www.centrodeformacao.pt
X-WR-CALDESC:Eventos para Centro de Formação
REFRESH-INTERVAL;VALUE=DURATION:PT1H
X-Robots-Tag:noindex
X-PUBLISHED-TTL:PT1H
BEGIN:VTIMEZONE
TZID:UTC
BEGIN:STANDARD
TZOFFSETFROM:+0000
TZOFFSETTO:+0000
TZNAME:UTC
DTSTART:20240101T000000
END:STANDARD
END:VTIMEZONE
BEGIN:VEVENT
DTSTART;TZID=UTC:20250310T140000
DTEND;TZID=UTC:20250310T180000
DTSTAMP:20260422T221737
CREATED:20241210T101228Z
LAST-MODIFIED:20250210T102849Z
UID:36971-1741615200-1741629600@www.centrodeformacao.pt
SUMMARY:Ciclo Integrado RGPC 2025 - Módulo 4: Canal de Denúncias
DESCRIPTION:Mais Informações\n  \nFicha de Inscrição 
URL:https://www.centrodeformacao.pt/eventos/modulo-4-canal-de-denuncias-versao-extensiva/
CATEGORIES:Ciclo Integrado RGPC 2025 - Versão Extensiva
ATTACH;FMTTYPE=image/png:https://www.centrodeformacao.pt/wp-content/uploads/2024/12/Copia-de-Modulo-IV-Canal-de-Denuncias-1920-x-1080-px.png
END:VEVENT
BEGIN:VEVENT
DTSTART;TZID=UTC:20250310T140000
DTEND;TZID=UTC:20250310T180000
DTSTAMP:20260422T221737
CREATED:20250227T123817Z
LAST-MODIFIED:20250227T123817Z
UID:37185-1741615200-1741629600@www.centrodeformacao.pt
SUMMARY:RGPCIC - Canais de Denúncia
DESCRIPTION:Mais Informações
URL:https://www.centrodeformacao.pt/eventos/rgpcic-canais-de-denuncia/
CATEGORIES:PAC RGPCIC | Prevenção da Corrupção e Infrações Conexas
END:VEVENT
BEGIN:VEVENT
DTSTART;TZID=UTC:20250311T140000
DTEND;TZID=UTC:20250311T180000
DTSTAMP:20260422T221737
CREATED:20241210T100711Z
LAST-MODIFIED:20250210T103723Z
UID:36965-1741701600-1741716000@www.centrodeformacao.pt
SUMMARY:Ciclo Integrado RGPC 2025 - Módulo 1: Plataforma RGPC
DESCRIPTION:Mais Informações\n  \nFicha de Inscrição 
URL:https://www.centrodeformacao.pt/eventos/modulo-1-plataforma-rgpc-versao-extensiva/
CATEGORIES:Ciclo Integrado RGPC 2025 - Versão Extensiva
ATTACH;FMTTYPE=image/png:https://www.centrodeformacao.pt/wp-content/uploads/2024/12/Copia-de-Modulo-I-Plataforma-RGPC-MENAC-1920-x-1080-px-1.png
END:VEVENT
BEGIN:VEVENT
DTSTART;TZID=UTC:20250312T090000
DTEND;TZID=UTC:20250312T180000
DTSTAMP:20260422T221737
CREATED:20241210T101329Z
LAST-MODIFIED:20250221T122934Z
UID:36973-1741770000-1741802400@www.centrodeformacao.pt
SUMMARY:Ciclo Integrado RGPC 2025 - Módulo 5: Plano de Prevenção de Riscos
DESCRIPTION:Mais Informações\n  \nFicha de Inscrição
URL:https://www.centrodeformacao.pt/eventos/modulo-5-plano-de-prevencao-de-riscos-versao-extensiva/
CATEGORIES:Ciclo Integrado RGPC 2025 - Versão Extensiva
ATTACH;FMTTYPE=image/png:https://www.centrodeformacao.pt/wp-content/uploads/2024/12/Copia-de-Modulo-V-Plano-de-Prevencao-de-Riscos-1920-x-1080-px.png
END:VEVENT
BEGIN:VEVENT
DTSTART;TZID=UTC:20250314T140000
DTEND;TZID=UTC:20250314T180000
DTSTAMP:20260422T221737
CREATED:20241210T102829Z
LAST-MODIFIED:20250210T103048Z
UID:36977-1741960800-1741975200@www.centrodeformacao.pt
SUMMARY:Ciclo Integrado RGPC 2025 - Módulo 7: Sistema de Controlo Interno
DESCRIPTION:Mais Informações\n  \nFicha de Inscrição 
URL:https://www.centrodeformacao.pt/eventos/modulo-7-sistema-de-controlo-interno-versao-extensiva/
CATEGORIES:Ciclo Integrado RGPC 2025 - Versão Extensiva
ATTACH;FMTTYPE=image/png:https://www.centrodeformacao.pt/wp-content/uploads/2024/12/Copia-de-Modulo-VII-Sistema-de-Controlo-Interno-1920-x-1080-px.png
END:VEVENT
BEGIN:VEVENT
DTSTART;TZID=UTC:20250314T140000
DTEND;TZID=UTC:20250314T180000
DTSTAMP:20260422T221737
CREATED:20250227T124751Z
LAST-MODIFIED:20250227T124751Z
UID:37201-1741960800-1741975200@www.centrodeformacao.pt
SUMMARY:RGPCIC - Sistema de Controlo Interno
DESCRIPTION:Mais Informações
URL:https://www.centrodeformacao.pt/eventos/rgpcic-sistema-de-controlo-interno/
CATEGORIES:PAC RGPCIC | Prevenção da Corrupção e Infrações Conexas
END:VEVENT
BEGIN:VEVENT
DTSTART;TZID=UTC:20250317T140000
DTEND;TZID=UTC:20250317T180000
DTSTAMP:20260422T221737
CREATED:20241210T100914Z
LAST-MODIFIED:20250210T123937Z
UID:36967-1742220000-1742234400@www.centrodeformacao.pt
SUMMARY:Ciclo Integrado RGPC 2025 - Módulo 2: Visão Integrada do RGPC
DESCRIPTION:Mais Informações\n  \nFicha de Inscrição
URL:https://www.centrodeformacao.pt/eventos/modulo-2-visao-integrada-do-rgpc-versao-extensiva/
CATEGORIES:Ciclo Integrado RGPC 2025 - Versão Extensiva
ATTACH;FMTTYPE=image/png:https://www.centrodeformacao.pt/wp-content/uploads/2024/12/Copia-de-Modulo-II-Visao-Integrada-do-RGPC-1920-x-1080-px.png
END:VEVENT
BEGIN:VEVENT
DTSTART;TZID=UTC:20250317T140000
DTEND;TZID=UTC:20250317T180000
DTSTAMP:20260422T221737
CREATED:20250227T111400Z
LAST-MODIFIED:20250227T123455Z
UID:37166-1742220000-1742234400@www.centrodeformacao.pt
SUMMARY:RGPCIC - Visão Integrada - Programa de Cumprimento Normativo RGPCIC
DESCRIPTION:Mais Informações
URL:https://www.centrodeformacao.pt/eventos/rgpcic-visao-integrada-programa-de-cumprimento-normativo-rgpcic/
CATEGORIES:PAC RGPCIC | Prevenção da Corrupção e Infrações Conexas
END:VEVENT
BEGIN:VEVENT
DTSTART;TZID=UTC:20250321T140000
DTEND;TZID=UTC:20250321T180000
DTSTAMP:20260422T221737
CREATED:20241210T102949Z
LAST-MODIFIED:20250307T154953Z
UID:36978-1742565600-1742580000@www.centrodeformacao.pt
SUMMARY:Ciclo Integrado RGPC 2025 - Módulo 8: Programa de Formação
DESCRIPTION:Mais Informações\n  \nFicha de Inscrição 
URL:https://www.centrodeformacao.pt/eventos/modulo-8-programa-de-formacao-versao-extensiva/
CATEGORIES:Ciclo Integrado RGPC 2025 - Versão Extensiva
ATTACH;FMTTYPE=image/png:https://www.centrodeformacao.pt/wp-content/uploads/2024/12/Copia-de-Modulo-VIII-Programa-de-Formacao-1920-x-1080-px.png
END:VEVENT
BEGIN:VEVENT
DTSTART;TZID=UTC:20250321T140000
DTEND;TZID=UTC:20250321T180000
DTSTAMP:20260422T221737
CREATED:20250227T123917Z
LAST-MODIFIED:20250227T123917Z
UID:37187-1742565600-1742580000@www.centrodeformacao.pt
SUMMARY:RGPCIC - Programas de Formação
DESCRIPTION:Mais Informações
URL:https://www.centrodeformacao.pt/eventos/rgpcic-programas-de-formacao/
CATEGORIES:PAC RGPCIC | Prevenção da Corrupção e Infrações Conexas
END:VEVENT
BEGIN:VEVENT
DTSTART;TZID=UTC:20250324T140000
DTEND;TZID=UTC:20250324T180000
DTSTAMP:20260422T221737
CREATED:20241210T101108Z
LAST-MODIFIED:20250221T122825Z
UID:36969-1742824800-1742839200@www.centrodeformacao.pt
SUMMARY:Ciclo Integrado RGPC 2025 - Módulo 3: Responsável pelo Cumprimento Normativo
DESCRIPTION:Mais Informações\n  \nFicha de Inscrição
URL:https://www.centrodeformacao.pt/eventos/modulo-3-responsavel-pelo-cumprimento-normativo-versao-extensiva/
CATEGORIES:Ciclo Integrado RGPC 2025 - Versão Extensiva
ATTACH;FMTTYPE=image/png:https://www.centrodeformacao.pt/wp-content/uploads/2024/12/Copia-de-Modulo-III-O-Papel-do-Responsavel-pelo-Cumprimento-Normativo-1920-x-1080-px.png
END:VEVENT
BEGIN:VEVENT
DTSTART;TZID=UTC:20250324T140000
DTEND;TZID=UTC:20250324T180000
DTSTAMP:20260422T221737
CREATED:20250227T122953Z
LAST-MODIFIED:20250227T123430Z
UID:37172-1742824800-1742839200@www.centrodeformacao.pt
SUMMARY:RGPCIC - RCN - Responsável pelo Cumprimento Normativo
DESCRIPTION:Mais Informações
URL:https://www.centrodeformacao.pt/eventos/rgpcic-rcn-responsavel-pelo-cumprimento-normativo/
CATEGORIES:PAC RGPCIC | Prevenção da Corrupção e Infrações Conexas
END:VEVENT
BEGIN:VEVENT
DTSTART;TZID=UTC:20250327T140000
DTEND;TZID=UTC:20250327T180000
DTSTAMP:20260422T221737
CREATED:20250123T115729Z
LAST-MODIFIED:20250306T123323Z
UID:37144-1743084000-1743098400@www.centrodeformacao.pt
SUMMARY:Ciclo Integrado RGPC 2025 - Módulo 9: Acumulação de Funções
DESCRIPTION:Mais Informações\n  \nFicha de Inscrição 
URL:https://www.centrodeformacao.pt/eventos/ciclo-integrado-rgpc-2025-modulo-9-acumulacao-de-funcoes/
CATEGORIES:Ciclo Integrado RGPC 2025 - Versão Extensiva
END:VEVENT
BEGIN:VEVENT
DTSTART;TZID=UTC:20250327T140000
DTEND;TZID=UTC:20250327T180000
DTSTAMP:20260422T221737
CREATED:20250227T124643Z
LAST-MODIFIED:20250306T112126Z
UID:37199-1743084000-1743098400@www.centrodeformacao.pt
SUMMARY:RGPCIC - Acumulação de Funções
DESCRIPTION:Mais Informações
URL:https://www.centrodeformacao.pt/eventos/rgpcic-acumulacao-de-funcoes/
CATEGORIES:PAC RGPCIC | Prevenção da Corrupção e Infrações Conexas
END:VEVENT
BEGIN:VEVENT
DTSTART;TZID=UTC:20250328T140000
DTEND;TZID=UTC:20250328T180000
DTSTAMP:20260422T221737
CREATED:20250122T094218Z
LAST-MODIFIED:20250327T115020Z
UID:37133-1743170400-1743184800@www.centrodeformacao.pt
SUMMARY:Implementação da Nova Declaração de Inexistência de Conflitos de Interesses na Administração Pública
DESCRIPTION:Mais Informações \nFicha de Inscrição
URL:https://www.centrodeformacao.pt/eventos/implementacao-da-nova-declaracao-de-inexistencia-de-conflitos-de-interesses-na-administracao-publica/
ATTACH;FMTTYPE=image/jpeg:https://www.centrodeformacao.pt/wp-content/uploads/2025/01/Implementacao-da-Nova-Declaracao-de-Inexistencia-de-Conflitos-de-Interesses-na-Administracao-Publica-1920-x-1080-px-2.jpg
END:VEVENT
BEGIN:VEVENT
DTSTART;TZID=UTC:20250328T140000
DTEND;TZID=UTC:20250328T180000
DTSTAMP:20260422T221737
CREATED:20250227T124536Z
LAST-MODIFIED:20250227T124536Z
UID:37197-1743170400-1743184800@www.centrodeformacao.pt
SUMMARY:RGPCIC - Conflitos de Interesses
DESCRIPTION:Mais Informações
URL:https://www.centrodeformacao.pt/eventos/rgpcic-conflitos-de-interesses/
CATEGORIES:PAC RGPCIC | Prevenção da Corrupção e Infrações Conexas
END:VEVENT
BEGIN:VEVENT
DTSTART;TZID=UTC:20250331T140000
DTEND;TZID=UTC:20250331T180000
DTSTAMP:20260422T221737
CREATED:20250227T123711Z
LAST-MODIFIED:20250227T123711Z
UID:37183-1743429600-1743444000@www.centrodeformacao.pt
SUMMARY:RGPCIC -  Reportes e Relatórios de Infrações
DESCRIPTION:Mais Informações
URL:https://www.centrodeformacao.pt/eventos/rgpcic-reportes-e-relatorios-de-infracoes/
CATEGORIES:PAC RGPCIC | Prevenção da Corrupção e Infrações Conexas
END:VEVENT
END:VCALENDAR