BEGIN:VCALENDAR
VERSION:2.0
PRODID:-//Centro de Formação - ECPv6.15.19//NONSGML v1.0//EN
CALSCALE:GREGORIAN
METHOD:PUBLISH
X-ORIGINAL-URL:https://www.centrodeformacao.pt
X-WR-CALDESC:Eventos para Centro de Formação
REFRESH-INTERVAL;VALUE=DURATION:PT1H
X-Robots-Tag:noindex
X-PUBLISHED-TTL:PT1H
BEGIN:VTIMEZONE
TZID:UTC
BEGIN:STANDARD
TZOFFSETFROM:+0000
TZOFFSETTO:+0000
TZNAME:UTC
DTSTART:20240101T000000
END:STANDARD
END:VTIMEZONE
BEGIN:VEVENT
DTSTART;TZID=UTC:20250512T160000
DTEND;TZID=UTC:20250512T180000
DTSTAMP:20260423T012002
CREATED:20250227T122750Z
LAST-MODIFIED:20250430T130547Z
UID:37170-1747065600-1747072800@www.centrodeformacao.pt
SUMMARY:RGPCIC - Plataforma RGPC - Plataforma Anticorrupção e Infrações Conexas
DESCRIPTION:Mais Informações
URL:https://www.centrodeformacao.pt/eventos/rgpcic-plataforma-rgpc-plataforma-anticorrupcao-e-infracoes-conexas/
CATEGORIES:PAC RGPCIC | Prevenção da Corrupção e Infrações Conexas
END:VEVENT
BEGIN:VEVENT
DTSTART;TZID=UTC:20250519T090000
DTEND;TZID=UTC:20250519T180000
DTSTAMP:20260423T012002
CREATED:20250227T123150Z
LAST-MODIFIED:20250430T130039Z
UID:37174-1747645200-1747677600@www.centrodeformacao.pt
SUMMARY:RGPCIC - PPRCIC - Plano de Prevenção de Riscos de Corrupção e  Infrações Conexas
DESCRIPTION:Mais Informações
URL:https://www.centrodeformacao.pt/eventos/rgpcic-pprcic-plano-de-prevencao-de-riscos-de-corrupcao-e-infracoes-conexas/
CATEGORIES:PAC RGPCIC | Prevenção da Corrupção e Infrações Conexas
END:VEVENT
BEGIN:VEVENT
DTSTART;TZID=UTC:20250521T160000
DTEND;TZID=UTC:20250521T180000
DTSTAMP:20260423T012002
CREATED:20250227T124433Z
LAST-MODIFIED:20250430T130140Z
UID:37195-1747843200-1747850400@www.centrodeformacao.pt
SUMMARY:RGPCIC - Transparência Administrativa ou Corporativa
DESCRIPTION:Mais Informações
URL:https://www.centrodeformacao.pt/eventos/rgpcic-transparencia-administrativa-ou-corporativa/
CATEGORIES:PAC RGPCIC | Prevenção da Corrupção e Infrações Conexas
END:VEVENT
BEGIN:VEVENT
DTSTART;TZID=UTC:20250526T160000
DTEND;TZID=UTC:20250526T180000
DTSTAMP:20260423T012002
CREATED:20250227T125352Z
LAST-MODIFIED:20250430T130422Z
UID:37212-1748275200-1748282400@www.centrodeformacao.pt
SUMMARY:RGPCIC - Investigação Interna de Atos Ilícitos relativos ao RGPCIC
DESCRIPTION:Mais Informações
URL:https://www.centrodeformacao.pt/eventos/rgpcic-investigacao-interna-de-atos-ilicitos-relativos-ao-rgpcic/
CATEGORIES:PAC RGPCIC | Prevenção da Corrupção e Infrações Conexas
END:VEVENT
BEGIN:VEVENT
DTSTART;TZID=UTC:20250529T160000
DTEND;TZID=UTC:20250529T180000
DTSTAMP:20260423T012002
CREATED:20250227T110814Z
LAST-MODIFIED:20250430T130250Z
UID:37164-1748534400-1748541600@www.centrodeformacao.pt
SUMMARY:RGPCIC - Agenda Anticorrupção e Infrações Conexas
DESCRIPTION:Mais Informações
URL:https://www.centrodeformacao.pt/eventos/rgpcic-agenda-anticorrupcao-e-infracoes-conexas/
CATEGORIES:PAC RGPCIC | Prevenção da Corrupção e Infrações Conexas
END:VEVENT
END:VCALENDAR